Workbook
Name _Toc156035611: 'Occupancy Cert'!#REF!
Name _Toc90976296: 'Occupancy Cert'!$J$37
Name _Toc91044117: 'Occupancy Cert'!$J$49
Name Action: '[1]Dropdown lists'!$B$167:$B$171
Name Alltoilet: '[1]Dropdown lists'!$B$2:$B$7
Name Block: 'Core Project Info'!$C$37
Name BlockList: 'Core Project Info'!$C$78:$C$82
Name BlockListAllocs: 'Core Project Info'!$I$78:$I$82
Name BlockListNames: 'Core Project Info'!$D$78:$D$82
Name blockname: 'Core Project Info'!$D$78
Name blocknumber: 'Core Project Info'!$C$78
Name boardrep: 'Core Project Info'!#REF!
Name BuildingType1: '[1]Dropdown lists'!$B$94:$B$103
Name CapExp: 'Drop downs'!$B$7:$B$8
Name casemanager: 'Core Project Info'!$E$20
Name ConstructionTypes: [2]Reference!$B$2:$B$6
Name Designer: 'Core Project Info'!$E$18
Name dryjh: '[3]School Info'!$L$3:$L$14
Name engineertocontract: 'Core Project Info'!$E$24
Name ExtCladding: '[1]Dropdown lists'!#REF!
Name ExtCladding1: '[1]Dropdown lists'!$B$38:$B$44
Name FireAlarm1: '[1]Dropdown lists'!$B$129:$B$132
Name FormStatus: '[1]Dropdown lists'!$B$163:$B$164
Name Fuel: '[1]Dropdown lists'!$B$80:$B$84
Name HeatingT: '[1]Dropdown lists'!$B$140:$B$150
Name info: 'Core Project Info'!$E$9
Name InvDona: 'Drop downs'!$B$11:$B$12
Name LocalOffice: 'Invoice (w contingency)'!$C$18
Name lomanager: 'Core Project Info'!$E$26
Name ministryfunding: 'Core Project Info'!$I$68
Name MOEfundinginplace: 'Core Project Info'!$I$67
Name networkfacilitator: 'Core Project Info'!$E$20
Name Offices: '[3]School Info'!$L$3:$L$14
Name Offices: '[4]School Info'!$L$3:$L$14
Name Original: '[1]Dropdown lists'!$B$168:$B$170
Name Original2: '[1]Dropdown lists'!$B$200:$B$201
Name Ownership: '[1]Dropdown lists'!$B$153:$B$155
Name Painted: '[1]Dropdown lists'!$B$15:$B$16
Name PhyStatus: '[1]Dropdown lists'!$B$88:$B$91
Name Pools: '[1]Dropdown lists'!$B$33:$B$35
Name projcasemanager: 'Core Project Info'!$E$22
Name projectdescription: 'Core Project Info'!$E$9
Name projectid: 'Core Project Info'!#REF!
Name projectmanager: 'Core Project Info'!$E$16
Name PropInuse: '[1]Dropdown lists'!$B$204:$B$205
Name Ramps: '[1]Dropdown lists'!$B$117:$B$126
Name RoofCladding: '[1]Dropdown lists'!$B$47:$B$53
Name RoofPitchNew: '[1]Dropdown lists'!$B$61:$B$63
Name RoomUsage: '[1]Dropdown lists'!$B$187:$B$197
Name rthytrh: '[3]School Info'!$L$3:$L$14
Name Schoolname: 'Core Project Info'!$E$7
Name schoolnumber: #REF!
Name schoolnumber: #REF!
Name schoolnumber: 'Core Project Info'!$E$4
Name SchoolRep: 'Core Project Info'!$E$18
Name SiteImprovement: '[1]Dropdown lists'!$B$174:$B$178
Name Status: '[1]Dropdown lists'!$B$88:$B$91
Name Tenure: '[1]Dropdown lists'!$B$107:$B$114
Name Tenure1: '[1]Dropdown lists'!$B$107:$B$114
Name Thirdpartyfundingtotal: 'Core Project Info'!$I$75

Sheet Core Project Info
C2: Project Input Page
C3: SUMMARY
C4: School number
C5: Project number
C6: Initiation date* | F6: *Date the project begins
C7: School name | E7: =VLOOKUP(schoolnumber,'School Info'!A:B,2,FALSE) -> #N/A
C9: Project description
C13: PROJECT TEAM
C14: Will a project manager be employed? | E14: Yes | F14: (choose Y/N)
C16: Project manager | G16: Phone
C18: School representative | G18: Phone
C20: Board of Trustees lead | G20: Phone
C22: Property advisor | G22: Phone
C24: Other consultants | G24: Phone
G26: Phone
C28: CONTRACTORS
C29: Lead Contractor | G29: Phone
C31: Tender 1 (Unsuccessful)
C33: Tender 2 (Unsuccessful)
C35: SCOPE OF WORK
C36: Block/Asset name | E36: Scope of work (e.g. Re-roof)
E41: Add lines as required
C42: PROJECT PLAN | I42: Allocation
C43: Phases | D43: Baseline Start date | E43: Baseline Finish Date | F43: Target Start Date | G43: Target Finish Date | H43: Actual Start Date | I43: Actual Finish Date | K43: NB:
C44: Planning* | K44: Baseline = planned date at the beginning of the project
C45: Design | K45: Target = adjusted dates frollowing any re-baseline of the project
C46: Build | K46: Actual = when the event took place
C47: Close out
C48: *NB the start of the planning phase is the start date entered above as initiation date
C49: CHECKLIST ITEM DATES
C50: Items | I50: Baseline date | K50: NB:
C51: Professional services procured | K51: Baseline = planned date at the beginning of the project
C52: Design concept
C53: Developed design etc
C54: Procurement plan
C55: Tender called
C56: Procurement recommendation
C57: Health & Safety evaluation
C58: Practical completion etc
C59: Code of compliance
...

Sheet Design Cert
B2: Design Certificate
B4: This form must be completed for all projects and forwarded to the Property Advisor at the New Zealand School Property Agency (NZSPA). 'Design' denotes detailed design plans, specifications, scope of work or any other form of documentation that outlines the requirements of the project prior to work starting.
B7: School number | C7: =schoolnumber -> 0 | H7: Project number | I7: ='Core Project Info'!E5 -> 0
B8: School name | C8: =Schoolname -> #N/A
B9: Description of works:
B10: =projectdescription -> 0
B13: IMPORTANT - All projects must have a project manager. All projects requiring a building consent must have a professional project manager. If there is only a project manager (professional or nonprofessional) engaged on a project, that person must complete PART A and confirm that the design has been prepared in accordance with all applicable legislation and standards, including the relevant NZSPA design requirements. If there are other Consultants engaged on the project, then each of these persons must Complete PART B and provide design certification for the work they are Responsible for, with the project manager responsible for the collation of these certificates and attaching them to this form. (In some cases the project manager may have to provide a design certification and collate the certificates from other consultants if they are involved in both management and design).
B20: PART A - Project manager with no other consultants
B21: I confirm that, in my opinion, based on reasonable grounds, the design has been prepared in accordance with all applicable legislation and standards, including the relevant NZSPA design requirements in the the Design and Standards pages on the NZSPA website (https://www.schoolproperty.govt.nz/). Where the consultant contracted to provide the design service(s) is a limited liability company, this certificate is signed on behalf of the company only. The signatory does not accept any personal liability for its contents. NZSPA and the board of trustees agrees that any claim arising out of or in connection with this certificate in contract, tort or otherwise may only be pursued against the company and not against the signatory personally. This certification is not to be construed as a guarantee.
B27: Name of Project Manager | E27: =projectmanager -> 0 | F27: =casemanager -> 0 | G27: =casemanager -> 0 | H27: =casemanager -> 0 | I27: =casemanager -> 0
B28: Signed*
B29: Date
B31: PART B - Project manager with other consultants
B32: I confirm that, in my opinion, based on reasonable grounds, the design has been prepared in accordance with all applicable legislation and standards, including the relevant NZSPA design requirements in the Design and Standards pages on the NZSPA website (https://www.schoolproperty.govt.nz/). Where the consultant contracted to provide the design service(s) is a limited liability company, this certificate is signed on behalf of the company only. The signatory does not accept any personal liability for its contents. NZSPA and the board of trustees agrees that any claim arising out of or in connection with this certificate in contract, tort or otherwise may only be pursued against the company and not against the signatory personally. This certification is not to be construed as a guarantee.
B38: 1. As a suitably qualified design professional authorised to confirm work, signed for and on behalf of
B39: Name of Consultant/Designer/company | E39: =engineertocontract -> 0
B40: Nature of design work completed
B41: Signature*
B42: Date
B44: 2. As a suitably qualified design professional authorised to confirm work, signed for and on behalf of
B45: Name of Consultant/Designer/company | E45: =lomanager -> 0
B46: Nature of design work completed
B47: Signature*
B48: Date
B50: 3. As a suitably qualified design professional authorised to confirm work, signed for and on behalf of
B51: Name of Consultant/Designer/company
B52: Nature of design work completed
B53: Signature*
B54: Date
B56: 4. As a suitably qualified design professional authorised to confirm work, signed for and on behalf of
B57: Name of Consultant/Designer/company
B58: Nature of design work completed
B59: Signature*
... B74: I confirm that all design consultants contracted to provide design services on this project have made the required certifications above.
B76: Name of Project Manager | E76: =IF(projectmanager="","",projectmanager)
B77: Signed*
B78: Date
B80: *Can be a digital signature

Sheet Observation Cert
B2: Construction Observation Certificate
B3: This form must be completed for all projects and forwarded to the Property Advisor. 'Construction' denotes any work that has been undertaken, or the ordering of any product or service.
B5: School number | C5: =IF(schoolnumber="","",schoolnumber)
B6: School name | C6: N/A
B7: Description of work that has been undertaken and observed:
B8: =projectdescription -> 0
B11: Observation Certification
B12: I or personnel under my control have carried out periodic reviews of the work appropriate to the engagement and, based on this periodic observation of the work and the certifications listed below from the contractors and/or subcontractors and/or other consultants, believe on reasonable grounds that the works have been completed in accordance with the approved design to which the Design Certificate relates. These certifications are listed fully here for completeness:
B16: Name of Signatory
B17: Company (if applicable)
B18: Signature*
B19: Date
B20: Name of Signatory
B21: Company (if applicable)
B22: Signature*
B23: Date
B24: Name of Signatory
B25: Company (if applicable)
... B32: Where the project manager/consultant providing the observation service(s) is a limited liability company, these certifications are signed on behalf of the company only. The signatory does not accept any personal liability for its contents. NZSPA agrees that any claim arising out of or in connection with this certificate in contract, tort or otherwise may only be pursued against the company. This certification is not to be construed as a guarantee.
B36: Name of Project Manager | D36: =IF(projectmanager="","",projectmanager)
B37: Signed*
B38: Date
B40: *Can be a digital signature

Sheet Occupancy Cert
B2: Occupancy Use Certificate
B3: To be forwarded to the local office of the NZSPA Property Advisor or School Property Officer
B4: School number | C4: =IF(schoolnumber="","",schoolnumber) | G4: Project number | H4: ='Core Project Info'!E5 -> 0
B5: School name | C5: =Schoolname -> #N/A
B6: NZSPA block name
B8: Project description | C8: =IF(projectdescription="","",projectdescription)
B11: Practical completion date
B13: Funding (name/details) | F13: Inv/Donation* | G13: Projected | H13: Actual
F14: Investment
F15: Investment
F16: Investment
F17: Donation
B18: *Choose investment vs donation | F18: Total income | G18: =SUM(G14:G17) -> 0 | H18: =SUM(H14:H17) -> 0
B20: Expenditure on this project - please list invoices received (name/details) | G20: Projected | H20: Actual
F35: Total expenditure | G35: =SUM(G21:G34) -> 0 | H35: =SUM(H21:H34) -> 0
F36: Balance (income minus expenditure) | G36: =G18-G35 -> 0 | H36: =H18-H35 -> 0
B37: Certification (attached)
B38: ● A Construction Observation Certificate | F38: Yes / No
B39: ● Updated building plans in CAD format | F39: Yes / No
B40: ● K2 update | F40: Yes / No
B41: ● Updated site plans in CAD format (if required) | F41: Yes / No
B42: ● Maintenance Plan for completed building | F42: Yes / No
B43: ● Copies of Product / Workmanship Warrantees | F43: Yes / No
B44: ● Copies of all project related invoices | F44: Yes / No
B45: ● Copies of invoices | F45: Yes / No
B46: ● Copy for City Council | F46: Yes / No
B47: ● Copies of Producer Statements | F47: Yes / No
B49: This project has been completed to the satisfaction of the board (subject to the normal maintenance period and retentions applying to the contract) and the funds provided by the New Zealand School Property Agency have been expended on the project as detailed above.
B51: Name of project manager | E51: =projectmanager -> 0
B52: Signed
B53: Date
B55: Board representative | E55: =casemanager -> 0
B56: Signed
B57: Date
B58: *Can be a digital signature

Sheet Internal Checklist
B2: Project Documentation Checklist
B3: (NZSPA use)
B4: School number | D4: =schoolnumber -> 0
B5: School name | D5: Not Applicable
B7: Project description | D7: =IF(projectdescription="","",projectdescription)
B9: Project manager | D9: =projectmanager -> 0
B10: Property advisor | D10: =projcasemanager -> 0
B12: Information Required By New Zealand School Property Agency(where applicable)
B13: Project data | E13: Complete | F13: Comments or action required (date)
B14: Core Project Information Form | E14: Yes / No
B15: Asset Update Form (Provisional) | E15: Yes / No
B16: Procurement Report | E16: Yes / No
B17: Procurement Recommendation Report | E17: Yes / No
B18: Design Certificate | E18: Yes / No
B19: School Tax Invoice | E19: Yes / No
B20: Tender evaluation (Property Advisor) | E20: Complete | F20: Comments or action required (date)
B21: Outstanding BWOF Work Requirement | E21: Yes / No
B22: Notices or Staff Inspection Return Cards | E22: Yes / No
B23: Outstanding documents from active previous projects | E23: Yes / No
B24: CAD Plan | E24: Yes / No
B25: Does scope vary from authorised project scope? | E25: Yes / No
B26: Has accessibility been included? | E26: Yes / No
B27: Procurement Report Reviewed | E27: Yes / No
B28: Do costs exceed authorised project budget? | E28: Yes / No
B30: Summary Statement
B32: Additional comments
B36: I confirm that I have made the necessary checks within NZSPA data sources to support the proposed project.
B38: Property Advisor | E38: =projcasemanager -> 0
B39: Signed
B40: Date
B42: Peer reviewed by
B43: Signed
B44: Date
B46: Follow-up action (by School Property Officer)
B47: Practical completion | E47: Complete | F47: Comments or action required | H47: Date
B48: Request School Property Officer to set up order | E48: Yes
B49: Project approval email sent to Project Manager | E49: Yes
B50: Asset Update Form (Final) | E50: Yes
B51: School invoice paid | E51: Yes
B52: Capitalisation submitted for authorisation | E52: Yes
...

Sheet School Info
A1: ID | B1: School Name | C1: School type | D1: School district
A2: 1 | B2: Te Kao School | C2: Full Primary (Y1-8) | D2: Whangarei
A3: 2 | B3: Taipa Area School | C3: Composite (Y1-15) | D3: Whangarei | G3: School type code
A4: 3 | B4: Kaitaia College | C4: Secondary (Y9-15) | D4: Whangarei | G4: 20 | H4: Full Primary (Y1-8)
A5: 4 | B5: Whangaroa College | C5: Secondary (Y7-15) | D5: Whangarei | G5: 21 | H5: Contributing Primary (Y1-6)
A6: 5 | B6: Kerikeri High School | C6: Secondary (Y7-15) | D6: Whangarei | G6: 22 | H6: Intermediate (Y7-8)
A7: 6 | B7: Broadwood Area School | C7: Composite (Y1-15) | D7: Whangarei | G7: 23 | H7: Special School
A8: 7 | B8: Okaihau College | C8: Secondary (Y7-15) | D8: Whangarei | G8: 30 | H8: Secondary (Y7-15)
A9: 8 | B9: Bay of Islands College | C9: Secondary (Y9-15) | D9: Whangarei | G9: 32 | H9: Composite (Y1-15)
A10: 9 | B10: Northland College | C10: Secondary (Y9-15) | D10: Whangarei | G10: 35 | H10: Restricted Composite (Y7-10)
A11: 10 | B11: Te Kura Taumata o Panguru | C11: Composite (Y1-15) | D11: Whangarei | G11: 40 | H11: Secondary (Y9-15)
A12: 11 | B12: Opononi Area School | C12: Composite (Y1-15) | D12: Whangarei
A13: 12 | B13: Tauraroa Area School | C13: Composite (Y1-15) | D13: Whangarei
A14: 13 | B14: Kamo High School | C14: Secondary (Y9-15) | D14: Whangarei
A15: 14 | B15: Tikipunga High School | C15: Secondary (Y7-15) | D15: Whangarei
A16: 15 | B16: Whangarei Boys' High School | C16: Secondary (Y9-15) | D16: Whangarei
A17: 16 | B17: Whangarei Girls' High School | C17: Secondary (Y9-15) | D17: Whangarei
A18: 18 | B18: Mangakahia Area School | C18: Composite (Y1-15) | D18: Whangarei
A19: 19 | B19: Dargaville High School | C19: Secondary (Y9-15) | D19: Whangarei
A20: 20 | B20: Bream Bay College | C20: Secondary (Y7-15) | D20: Whangarei
A21: 21 | B21: Otamatea High School | C21: Secondary (Y7-15) | D21: Whangarei
A22: 22 | B22: Ruawai College | C22: Secondary (Y7-15) | D22: Whangarei
A23: 23 | B23: Rodney College | C23: Secondary (Y9-15) | D23: Auckland
... A2429: 6975 | B2429: Garin College | C2429: State : Integrated | D2429: Nelson
A2430: C1001 | B2430: Akaroa Cluster | C2430: Cluster | D2430: Christchurch
A2431: C1002 | B2431: Aranui Cluster | C2431: Cluster | D2431: Christchurch
A2432: C1003 | B2432: Avonhead Cluster | C2432: Cluster | D2432: Christchurch
A2433: C1004 | B2433: Belfast Cluster | C2433: Cluster | D2433: Christchurch
A2434: C1005 | B2434: Brighton Cluster | C2434: Cluster | D2434: Christchurch
A2435: C1006 | B2435: Burnside Cluster | C2435: Cluster | D2435: Christchurch
A2436: C1007 | B2436: Cashmere Cluster | C2436: Cluster | D2436: Christchurch
A2437: C1008 | B2437: Central City Cluster | C2437: Cluster | D2437: Christchurch
A2438: C1030 | B2438: Darfield Cluster | C2438: Cluster | D2438: Selwyn
A2439: C1009 | B2439: Elmwood Cluster | C2439: Cluster | D2439: Christchurch
A2440: C1010 | B2440: Halswell Cluster | C2440: Cluster | D2440: Christchurch
A2441: C1011 | B2441: Hornby Cluster | C2441: Cluster | D2441: Christchurch
... A2468: C1044 | B2468: Waimak Rural | C2468: Cluster | D2468: Waimakariri

Sheet Drop downs
A2: Name | B2: YesNo
A3: 1 | B3: Yes
A4: 2 | B4: No
A6: Name | B6: CapExp
A7: 1 | B7: Capital
A8: 2 | B8: Expense
A10: Name | B10: InvDona
A11: 1 | B11: Investment
A12: 2 | B12: Donation

Sheet Invoice (w contingency)
E2: Form 13: Tax Invoice+C
B4: To be forwarded to the local office of the New Zealand School Property Agency (NZSPA)
B5: Date
B6: Unique Invoice No | E6: =IF(C6="","(From schools accounting/ledger system)","") -> (From schools accounting/ledger system)
B7: Helios Order No | E7: (optional)
B8: GST number
B9: Project number | C9: ='Core Project Info'!E5 -> 0
B10: School number
B11: School name | C11: =Schoolname -> #N/A
B13: School address
B17: To | C17: New Zealand School Property Agency
B18: Office
B19: Office address
B23: Project description | C23: =info -> 0
B27: NZSPA Funding | F27: NZSPA Project ID | G27: Financial Year | H27: Budget
B33: Approved NZSPA funding | H33: =IF(OR(H28<>"$",H29<>"$",H30<>"$",H31<>"$"),SUM(H28:H31),"$") -> 0
B34: Less 10% contingency of approved NZSPA funding | H34: =IF(H33="$","$",0.1*H33) -> 0
B35: Less advanced funds
B36: Subtotal | H36: =IF(H33="$","$",H33-SUM(H34:H35)) -> 0
B37: Amount requested
B38: Plus GST | H38: =IF(H37="$","$",0.15*H37) -> 0
B39: GST inclusive invoice amount payable to school | H39: =IF(H37="$","$",H37+H38) -> 0
H42: =V -> V_4.3

Sheet Invoice Form
E2: Tax Invoice
B4: To be forwarded to the local office of the New Zealand School Property Agency
B5: Date
B6: Unique Invoice No | G6: (From the School's ledger)
B7: Helios Project No | D7: ='Core Project Info'!E5 -> 0
B8: Helios Order No (optional)
B9: GST number
B10: School number | D10: =schoolnumber -> 0
B11: School name | C11: =Schoolname -> #N/A
B13: School address
B17: To | C17: New Zealand School Property Agency
B18: Office
B19: Office address
B23: Relevant goods or services:
B24: Project description | C24: =projectdescription -> 0
B28: Amount requested
B29: Plus GST | H29: =IF(H28="$","$",0.15*H28) -> 0
B30: GST inclusive invoice amount payable to school | H30: =IF(H28="$","$",H28+H29) -> 0

Sheet School Building Financial Info
B2: Helios Asset Update Form: Project Financial Information for School Buildings
B3: Practical Completion Date | E3: This is the date the asset was 'available for use', not the end of the Defects Liability Period. | G3: Project Financial Summary (CAPEX only)
B4: Status | C4: FINAL | G4: NZSPA funded expenditure on:
B5: Form completed by | G5: These school buildings
B6: Project Number | C6: ='[1]Building (modification)'!D15 -> 0 | G6: Other buildings
G7: School site
G8: Total Project Expenditure | I8: =SUM(I5:I7) -> 0
B10: Please split expenditure by building (excludes ancillary and modular buildings - use PlantAncillSwimSite Financials worksheet for these):
B11: SCHOOL BUILDING 1: | C11: <Enter building name here>
B12: Building Component Financial Data | G12: Comments
C13: Typical % (new build) | D13: Actual Cost % | E13: Actual value | F13: If replacement, indicate the percentage that was replaced
B14: Roof | C14: 0.07 | D14: =IF(E22>0,E14/E22,0) -> 0 | F14: % | G14: Roof cladding
B15: Structure | C15: 0.2 | D15: =IF(E22>0,E15/E22,0) -> 0 | G15: Inc. site prep, substructure, frame, structural walls, upper floors, decks, ramps
B16: External Windows & Doors | C16: 0.05 | D16: =IF(E22>0,E16/E22,0) -> 0 | F16: % | G16: External windows & doors
B17: External Wall Cladding | C17: 0.08 | D17: =IF(E22>0,E17/E22,0) -> 0 | G17: External cladding
B18: Electrical Services | C18: 0.1 | D18: =IF(E22>0,E18/E22,0) -> 0 | G18: Electrical services (including heating, lighting, cabling, distribution boards, security alarms/access control, fire alarms)
B19: Mechanical Services | C19: 0.07 | D19: =IF(E22>0,E19/E22,0) -> 0 | G19: Mechanical services (inc. plumbing, sprinklers, heat pumps, HVAC, solar panels, water treatment)
B20: Fit Out - Other | C20: 0.39 | D20: =IF(E22>0,E20/E22,0) -> 0 | G20: Includes stairs, internal walls & doors, ceilings, fixtures & fittings
B21: Fit Out - Floor Coverings | C21: 0.04 | D21: =IF(E22>0,E21/E22,0) -> 0 | F21: % | G21: Floor coverings and finishes only
B22: Total | C22: =SUM(C14:C21) -> 1 | D22: =SUM(D14:D21) -> 0 | E22: =SUM(E14:E21) -> 0
B24: SCHOOL BUILDING 2: | C24: <Enter building name here> | G24: Practical Completion Date (if different from Building 1 above):
B25: Building Component Financial Data | G25: Comments
C26: Typical % (new build) | D26: Actual Cost % | E26: Actual value | F26: If replacement, indicate the percentage that was replaced
B27: Roof | C27: 0.07 | D27: =IF(E35>0,E27/E35,0) -> 0 | F27: % | G27: Roof cladding
B28: Structure | C28: 0.2 | D28: =IF(E35>0,E28/E35,0) -> 0 | G28: Inc. site prep, substructure, frame, structural walls, upper floors, decks, ramps
B29: External Windows & Doors | C29: 0.05 | D29: =IF(E35>0,E29/E35,0) -> 0 | F29: % | G29: External windows & doors
B30: External Wall Cladding | C30: 0.08 | D30: =IF(E35>0,E30/E35,0) -> 0 | G30: External cladding
B31: Electrical Services | C31: 0.1 | D31: =IF(E35>0,E31/E35,0) -> 0 | G31: Electrical services (including heating, lighting, cabling, distribution boards, security alarms/access control, fire alarms)
B32: Mechanical Services | C32: 0.07 | D32: =IF(E35>0,E32/E35,0) -> 0 | G32: Mechanical services (inc. plumbing, sprinklers, heat pumps, HVAC, solar panels, water treatment)
B33: Fit Out - Other | C33: 0.39 | D33: =IF(E35>0,E33/E35,0) -> 0 | G33: Includes stairs, internal walls & doors, ceilings, fixtures & fittings
B34: Fit Out - Floor Coverings | C34: 0.04 | D34: =IF(E35>0,E34/E35,0) -> 0 | F34: % | G34: Floor coverings and finishes only
B35: Total | C35: =SUM(C27:C34) -> 1 | D35: =SUM(D27:D34) -> 0 | E35: =SUM(E27:E34) -> 0
B37: NB copy a separate box for each building

Sheet PlantAncillSwimSite Financials
B3: Core Plant (K2 Asset) Financial Data | D3: Comment
C4: Actual value
B5: Boiler | C5: $ | D5: All boilers (excluding rooms or buildings that house them)
B6: Lift | C6: $
B7: Hoist | C7: $
B8: If more than one boiler, lift or hoist, insert additional rows as required.
B10: Ancillary/Modular Building Financial Data
B11: Ancillary Building | C11: 0
B12: Modular Building | C12: 0
B13: Covered Way | C13: 0
B16: Swimming Pool Financial Data
B17: Swimming Pool | C17: 0
B18: Roof/Cover | C18: 0
B19: Pump room | C19: 0
B22: Site Improvements Financial Data
B23: Fields and Courts:
B24: Grassed pitch | C24: 0
B25: Hard court | C25: 0
B26: Play area | C26: 0
B27: Synthetic Turf | C27: 0
B28: Paving | C28: 0
B29: Roading | C29: 0
B30: Car Parking | C30: 0
B31: Adventure Playground | C31: 0
B32: Retaining Wall | C32: 0
B33: Bridge | C33: 0
B34: Wall/Fence/Gates | C34: 0
A35: Inground | B35: Storm Water/Drainage: | C35: 0
B36: Sewerage
B37: Municipal disposal | C37: 0
B38: Septic tank | C38: 0
B39: Water Supply (incl. treatment systems):
B40: Bore | C40: 0
B41: Mains | C41: 0
B42: Tank | C42: 0
B43: Electrial reticulation (underground) | C43: 0
B44: Water Tank | C44: 0
B45: Shade structure | C45: 0
B46: Miscellaneous site improvements | C46: 0 | D46: E.g. flag poles, drinking fountains, SNMs outside buildings
